BEGIN:VCALENDAR
VERSION:2.0
PRODID:-//CS Toulon - ECPv6.15.20//NONSGML v1.0//EN
CALSCALE:GREGORIAN
METHOD:PUBLISH
X-WR-CALNAME:CS Toulon
X-ORIGINAL-URL:https://cs-toulon.fr
X-WR-CALDESC:Évènements pour CS Toulon
REFRESH-INTERVAL;VALUE=DURATION:PT1H
X-Robots-Tag:noindex
X-PUBLISHED-TTL:PT1H
BEGIN:VTIMEZONE
TZID:Europe/Paris
BEGIN:DAYLIGHT
TZOFFSETFROM:+0100
TZOFFSETTO:+0200
TZNAME:CEST
DTSTART:20250330T010000
END:DAYLIGHT
BEGIN:STANDARD
TZOFFSETFROM:+0200
TZOFFSETTO:+0100
TZNAME:CET
DTSTART:20251026T010000
END:STANDARD
BEGIN:DAYLIGHT
TZOFFSETFROM:+0100
TZOFFSETTO:+0200
TZNAME:CEST
DTSTART:20260329T010000
END:DAYLIGHT
BEGIN:STANDARD
TZOFFSETFROM:+0200
TZOFFSETTO:+0100
TZNAME:CET
DTSTART:20261025T010000
END:STANDARD
BEGIN:DAYLIGHT
TZOFFSETFROM:+0100
TZOFFSETTO:+0200
TZNAME:CEST
DTSTART:20270328T010000
END:DAYLIGHT
BEGIN:STANDARD
TZOFFSETFROM:+0200
TZOFFSETTO:+0100
TZNAME:CET
DTSTART:20271031T010000
END:STANDARD
END:VTIMEZONE
BEGIN:VEVENT
DTSTART;TZID=Europe/Paris:20260305T140000
DTEND;TZID=Europe/Paris:20260305T160000
DTSTAMP:20260422T014916
CREATED:20260212T133639Z
LAST-MODIFIED:20260212T133639Z
UID:391-1772719200-1772726400@cs-toulon.fr
SUMMARY:Café des Parents à La Florane
DESCRIPTION:
URL:https://cs-toulon.fr/evenement/cafe-des-parents-a-la-florane/
LOCATION:chemin bonfante 83200\, Parc la Florane chem. Bonfante\, Toulon\, 83200\, France
ORGANIZER;CN="CENTRE SOCIAL ET CULTUREL TOULON OUEST":MAILTO:ouest@cs-toulon.fr
END:VEVENT
BEGIN:VEVENT
DTSTART;TZID=Europe/Paris:20260306T090000
DTEND;TZID=Europe/Paris:20260306T113000
DTSTAMP:20260422T014916
CREATED:20260302T145421Z
LAST-MODIFIED:20260302T145548Z
UID:401-1772787600-1772796600@cs-toulon.fr
SUMMARY:Projection du film « La Maison des Femmes »
DESCRIPTION:A l’occasion de la Journée Internationale des Droits des Femmes\, projection du film « la maison des femmes » au cinéma le Royal à Toulon. \nRenseignements et inscriptions auprès des 3 centres sociaux de Toulon\, places limitées.
URL:https://cs-toulon.fr/evenement/projection-du-film-la-maison-des-femmes/
END:VEVENT
BEGIN:VEVENT
DTSTART;TZID=Europe/Paris:20260306T090000
DTEND;TZID=Europe/Paris:20260306T160000
DTSTAMP:20260422T014916
CREATED:20260217T125356Z
LAST-MODIFIED:20260217T125356Z
UID:397-1772787600-1772812800@cs-toulon.fr
SUMMARY:Journée Internationale des Droits des Femmes à Toulon Ouest
DESCRIPTION:
URL:https://cs-toulon.fr/evenement/journee-internationale-des-droits-des-femmes-a-toulon-ouest/
LOCATION:119 CHEMIN DU TEMPLE 83200 TOULON\, 119 CHEMIN DU TEMPLE\, TOULON\, 83200\, France
ORGANIZER;CN="CENTRE SOCIAL ET CULTUREL TOULON OUEST":MAILTO:ouest@cs-toulon.fr
END:VEVENT
BEGIN:VEVENT
DTSTART;TZID=Europe/Paris:20260319T140000
DTEND;TZID=Europe/Paris:20260319T160000
DTSTAMP:20260422T014916
CREATED:20260212T134149Z
LAST-MODIFIED:20260212T134149Z
UID:394-1773928800-1773936000@cs-toulon.fr
SUMMARY:Café Parents à La Beaucaire
DESCRIPTION:C
URL:https://cs-toulon.fr/evenement/cafe-parents-a-la-beaucaire-2/
LOCATION:avenue Albert Camus 83200 Toulon\, Toulon\, 83200\, France
ORGANIZER;CN="CENTRE SOCIAL ET CULTUREL TOULON OUEST":MAILTO:ouest@cs-toulon.fr
END:VEVENT
END:VCALENDAR