BEGIN:VCALENDAR
VERSION:2.0
PRODID:-//CS Toulon - ECPv6.15.20//NONSGML v1.0//EN
CALSCALE:GREGORIAN
METHOD:PUBLISH
X-WR-CALNAME:CS Toulon
X-ORIGINAL-URL:https://cs-toulon.fr
X-WR-CALDESC:Évènements pour CS Toulon
REFRESH-INTERVAL;VALUE=DURATION:PT1H
X-Robots-Tag:noindex
X-PUBLISHED-TTL:PT1H
BEGIN:VTIMEZONE
TZID:Europe/Paris
BEGIN:DAYLIGHT
TZOFFSETFROM:+0100
TZOFFSETTO:+0200
TZNAME:CEST
DTSTART:20250330T010000
END:DAYLIGHT
BEGIN:STANDARD
TZOFFSETFROM:+0200
TZOFFSETTO:+0100
TZNAME:CET
DTSTART:20251026T010000
END:STANDARD
BEGIN:DAYLIGHT
TZOFFSETFROM:+0100
TZOFFSETTO:+0200
TZNAME:CEST
DTSTART:20260329T010000
END:DAYLIGHT
BEGIN:STANDARD
TZOFFSETFROM:+0200
TZOFFSETTO:+0100
TZNAME:CET
DTSTART:20261025T010000
END:STANDARD
BEGIN:DAYLIGHT
TZOFFSETFROM:+0100
TZOFFSETTO:+0200
TZNAME:CEST
DTSTART:20270328T010000
END:DAYLIGHT
BEGIN:STANDARD
TZOFFSETFROM:+0200
TZOFFSETTO:+0100
TZNAME:CET
DTSTART:20271031T010000
END:STANDARD
END:VTIMEZONE
BEGIN:VEVENT
DTSTART;TZID=Europe/Paris:20260205T140000
DTEND;TZID=Europe/Paris:20260205T160000
DTSTAMP:20260422T032035
CREATED:20260126T150311Z
LAST-MODIFIED:20260126T150312Z
UID:381-1770300000-1770307200@cs-toulon.fr
SUMMARY:CAFÉ PARENTS MAISON DE QUARTIER LA FLORANE
DESCRIPTION:
URL:https://cs-toulon.fr/evenement/cafe-parents-maison-de-quartier-la-florane/
LOCATION:chemin bonfante 83200\, Parc la Florane chem. Bonfante\, Toulon\, 83200\, France
END:VEVENT
BEGIN:VEVENT
DTSTART;TZID=Europe/Paris:20260219T140000
DTEND;TZID=Europe/Paris:20260219T160000
DTSTAMP:20260422T032035
CREATED:20260126T151029Z
LAST-MODIFIED:20260126T151152Z
UID:385-1771509600-1771516800@cs-toulon.fr
SUMMARY:CAFÉ PARENTS AU CLUB ADOS À LA BEAUCAIRE
DESCRIPTION:
URL:https://cs-toulon.fr/evenement/cafe-parents-au-club-ados-a-la-beaucaire/
LOCATION:avenue Albert Camus 83200 Toulon\, Toulon\, 83200\, France
CATEGORIES:Atelier
ORGANIZER;CN="CENTRE SOCIAL ET CULTUREL TOULON OUEST":MAILTO:ouest@cs-toulon.fr
END:VEVENT
END:VCALENDAR