BEGIN:VCALENDAR
VERSION:2.0
PRODID:-//CS Toulon - ECPv6.15.20//NONSGML v1.0//EN
CALSCALE:GREGORIAN
METHOD:PUBLISH
X-ORIGINAL-URL:https://cs-toulon.fr
X-WR-CALDESC:Évènements pour CS Toulon
REFRESH-INTERVAL;VALUE=DURATION:PT1H
X-Robots-Tag:noindex
X-PUBLISHED-TTL:PT1H
BEGIN:VTIMEZONE
TZID:Europe/Paris
BEGIN:DAYLIGHT
TZOFFSETFROM:+0100
TZOFFSETTO:+0200
TZNAME:CEST
DTSTART:20240331T010000
END:DAYLIGHT
BEGIN:STANDARD
TZOFFSETFROM:+0200
TZOFFSETTO:+0100
TZNAME:CET
DTSTART:20241027T010000
END:STANDARD
BEGIN:DAYLIGHT
TZOFFSETFROM:+0100
TZOFFSETTO:+0200
TZNAME:CEST
DTSTART:20250330T010000
END:DAYLIGHT
BEGIN:STANDARD
TZOFFSETFROM:+0200
TZOFFSETTO:+0100
TZNAME:CET
DTSTART:20251026T010000
END:STANDARD
BEGIN:DAYLIGHT
TZOFFSETFROM:+0100
TZOFFSETTO:+0200
TZNAME:CEST
DTSTART:20260329T010000
END:DAYLIGHT
BEGIN:STANDARD
TZOFFSETFROM:+0200
TZOFFSETTO:+0100
TZNAME:CET
DTSTART:20261025T010000
END:STANDARD
END:VTIMEZONE
BEGIN:VEVENT
DTSTART;TZID=Europe/Paris:20251206T153000
DTEND;TZID=Europe/Paris:20251206T163000
DTSTAMP:20260422T062702
CREATED:20251124T084700Z
LAST-MODIFIED:20251124T084700Z
UID:349-1765035000-1765038600@cs-toulon.fr
SUMMARY:CONCERT GRATUIT AU CST OUEST
DESCRIPTION:
URL:https://cs-toulon.fr/evenement/concert-gratuit-au-cst-ouest/
LOCATION:119 CHEMIN DU TEMPLE 83200 TOULON\, 119 CHEMIN DU TEMPLE\, TOULON\, 83200\, France
END:VEVENT
BEGIN:VEVENT
DTSTART;TZID=Europe/Paris:20251213T140000
DTEND;TZID=Europe/Paris:20251213T170000
DTSTAMP:20260422T062702
CREATED:20251205T084522Z
LAST-MODIFIED:20251205T084522Z
UID:359-1765634400-1765645200@cs-toulon.fr
SUMMARY:APRES MIDI FESTIVE À TOULON OUEST SAMEDI 13 DECEMBRE
DESCRIPTION:
URL:https://cs-toulon.fr/evenement/apres-midi-festive-a-toulon-ouest-samedi-13-decembre/
LOCATION:119 CHEMIN DU TEMPLE 83200 TOULON\, 119 CHEMIN DU TEMPLE\, TOULON\, 83200\, France
ORGANIZER;CN="CENTRE SOCIAL ET CULTUREL TOULON OUEST":MAILTO:ouest@cs-toulon.fr
END:VEVENT
END:VCALENDAR