BEGIN:VCALENDAR
VERSION:2.0
PRODID:-//CS Toulon - ECPv6.15.20//NONSGML v1.0//EN
CALSCALE:GREGORIAN
METHOD:PUBLISH
X-ORIGINAL-URL:https://cs-toulon.fr
X-WR-CALDESC:Évènements pour CS Toulon
REFRESH-INTERVAL;VALUE=DURATION:PT1H
X-Robots-Tag:noindex
X-PUBLISHED-TTL:PT1H
BEGIN:VTIMEZONE
TZID:Europe/Paris
BEGIN:DAYLIGHT
TZOFFSETFROM:+0100
TZOFFSETTO:+0200
TZNAME:CEST
DTSTART:20240331T010000
END:DAYLIGHT
BEGIN:STANDARD
TZOFFSETFROM:+0200
TZOFFSETTO:+0100
TZNAME:CET
DTSTART:20241027T010000
END:STANDARD
BEGIN:DAYLIGHT
TZOFFSETFROM:+0100
TZOFFSETTO:+0200
TZNAME:CEST
DTSTART:20250330T010000
END:DAYLIGHT
BEGIN:STANDARD
TZOFFSETFROM:+0200
TZOFFSETTO:+0100
TZNAME:CET
DTSTART:20251026T010000
END:STANDARD
BEGIN:DAYLIGHT
TZOFFSETFROM:+0100
TZOFFSETTO:+0200
TZNAME:CEST
DTSTART:20260329T010000
END:DAYLIGHT
BEGIN:STANDARD
TZOFFSETFROM:+0200
TZOFFSETTO:+0100
TZNAME:CET
DTSTART:20261025T010000
END:STANDARD
END:VTIMEZONE
BEGIN:VEVENT
DTSTART;TZID=Europe/Paris:20250404T093000
DTEND;TZID=Europe/Paris:20250404T120000
DTSTAMP:20260422T184918
CREATED:20240219T103508Z
LAST-MODIFIED:20250328T082940Z
UID:16-1743759000-1743768000@cs-toulon.fr
SUMMARY:Ateliers sophrologies
DESCRIPTION:Le Vendredi 4 avril\, de 9h30 à 12h\, pour la quinzaine des familles\, des ateliers sophrologies pour les enfants jusqu’à 6 ans avec leurs parents\, seront proposés au Lieu d’Accueil Enfants Parents L’Aparthé au 140 Avenue François Cuzin 83100 Toulon
URL:https://cs-toulon.fr/evenement/ateliers-sophrologies/
LOCATION:Lieu d’Accueil Enfants Parents L’Aparthé\, 140 Avenue François Cuzin 83100\, Toulon\, 83100\, France
CATEGORIES:Atelier
END:VEVENT
END:VCALENDAR